BEGIN:VCALENDAR
VERSION:2.0
PRODID:-//Asociación Mexicana de Infectología y Microbiología Clínica, A.C. - ECPv4.8.1//NONSGML v1.0//EN
CALSCALE:GREGORIAN
METHOD:PUBLISH
X-WR-CALNAME:Asociación Mexicana de Infectología y Microbiología Clínica, A.C.
X-ORIGINAL-URL:https://www.amimc.org.mx
X-WR-CALDESC:Eventos para Asociación Mexicana de Infectología y Microbiología Clínica, A.C.
BEGIN:VEVENT
DTSTART;TZID=America/Mexico_City:20190829T080000
DTEND;TZID=America/Mexico_City:20190831T170000
DTSTAMP:20260423T113911
CREATED:20190711T212344Z
LAST-MODIFIED:20190711T212443Z
UID:5401-1567065600-1567270800@www.amimc.org.mx
SUMMARY:XXI SIMPOSIO INTERNACIONAL DE VIH/SIDA 2019
DESCRIPTION:XXI SIMPOSIO INTERNACIONAL DE VIH/SIDA 2019 CDMX DEL 29 AL 31 DE AGOSTO DE 2019\n\n
URL:https://www.amimc.org.mx/evento/xxi-simposio-internacional-de-vih-sida-2019/
ATTACH;FMTTYPE=image/png:https://www.amimc.org.mx/wp-content/uploads/2019/07/unnamed-1.png
END:VEVENT
END:VCALENDAR