BEGIN:VCALENDAR
VERSION:2.0
PRODID:-//Asociación Mexicana de Infectología y Microbiología Clínica, A.C. - ECPv4.8.1//NONSGML v1.0//EN
CALSCALE:GREGORIAN
METHOD:PUBLISH
X-WR-CALNAME:Asociación Mexicana de Infectología y Microbiología Clínica, A.C.
X-ORIGINAL-URL:https://www.amimc.org.mx
X-WR-CALDESC:Eventos para Asociación Mexicana de Infectología y Microbiología Clínica, A.C.
BEGIN:VEVENT
DTSTART;TZID=America/Mexico_City:20161114T080000
DTEND;TZID=America/Mexico_City:20161120T170000
DTSTAMP:20260423T112604
CREATED:20161201T213831Z
LAST-MODIFIED:20161201T214254Z
UID:4640-1479110400-1479661200@www.amimc.org.mx
SUMMARY:Semana mundial de concienciación sobre el uso de los antibióticos
DESCRIPTION:14 al 20 de noviembre del 2016\, Organización Mundial de la Salud \n Semana mundial de concienciación sobre el uso de los antibióticos\n
URL:https://www.amimc.org.mx/evento/xviii-simposio-internacional-vihsida-2-3/
END:VEVENT
END:VCALENDAR