BEGIN:VCALENDAR
VERSION:2.0
PRODID:-//Asociación Mexicana de Infectología y Microbiología Clínica, A.C. - ECPv4.8.1//NONSGML v1.0//EN
CALSCALE:GREGORIAN
METHOD:PUBLISH
X-WR-CALNAME:Asociación Mexicana de Infectología y Microbiología Clínica, A.C.
X-ORIGINAL-URL:https://www.amimc.org.mx
X-WR-CALDESC:Eventos para Asociación Mexicana de Infectología y Microbiología Clínica, A.C.
BEGIN:VEVENT
DTSTART;TZID=America/Mexico_City:20150910T140000
DTEND;TZID=America/Mexico_City:20150912T150000
DTSTAMP:20260423T125313
CREATED:20150715T235057Z
LAST-MODIFIED:20150909T001103Z
UID:4311-1441893600-1442070000@www.amimc.org.mx
SUMMARY:SIMPOSIO VIH/SIDA 2015
DESCRIPTION:Programa Final VIH \nFormato Inscripción_ VIH 2015 \n  \n
URL:https://www.amimc.org.mx/evento/simposio-vihsida-2015/
LOCATION:Hotel Crowne Plaza WTC\, Dakota 95\, Col. Nápoles\, México\, D.F.\, México
ATTACH;FMTTYPE=image/jpeg:https://www.amimc.org.mx/wp-content/uploads/2015/07/CARTEL-OK.jpg
END:VEVENT
END:VCALENDAR