BEGIN:VCALENDAR
VERSION:2.0
PRODID:-//Asociación Mexicana de Infectología y Microbiología Clínica, A.C. - ECPv4.8.1//NONSGML v1.0//EN
CALSCALE:GREGORIAN
METHOD:PUBLISH
X-WR-CALNAME:Asociación Mexicana de Infectología y Microbiología Clínica, A.C.
X-ORIGINAL-URL:https://www.amimc.org.mx
X-WR-CALDESC:Eventos para Asociación Mexicana de Infectología y Microbiología Clínica, A.C.
BEGIN:VEVENT
DTSTART;VALUE=DATE:20190820
DTEND;VALUE=DATE:20190829
DTSTAMP:20260423T121221
CREATED:20190820T222928Z
LAST-MODIFIED:20190820T223238Z
UID:5451-1566259200-1567036799@www.amimc.org.mx
SUMMARY:CURSO DE OPS/OMS EN SCHOLAR SOBRE PLANEACIÓN E IMPLEMENTACIÓN DEL REGISTRO NOMINAL DE VACUNACIÓN ELECTRÓNICO.
DESCRIPTION:CURSO DE OPS/OMS EN SCHOLAR SOBRE PLANEACIÓN E IMPLEMENTACIÓN DEL REGISTRO NOMINAL DE VACUNACIÓN ELECTRÓNICO.\n[vc_row][vc_column][vc_btn title=»CURSO DE OPS/OMS EN SCHOLAR SOBRE PLANEACIÓN E IMPLEMENTACIÓN DEL REGISTRO NOMINAL DE VACUNACIÓN ELECTRÓNICO» link=»url:http%3A%2F%2Fwww.amimc.org.mx%2Fwp-content%2Fuploads%2F2019%2F08%2FCURSO-DE-OPS_OMS-EN-SCHOLAR-SOBRE-PLANEACIO%CC%81N-E-IMPLEMENTACIO%CC%81N-DEL-REGISTRO-NOMINAL-DE-VACUNACIO%CC%81N-ELECTRO%CC%81NICO.pdf|||»]\n
URL:https://www.amimc.org.mx/evento/curso-de-ops-oms-en-scholar-sobre-planeacion-e-implementacion-del-registro-nominal-de-vacunacion-electronico/
END:VEVENT
END:VCALENDAR